BEGIN:VCALENDAR
VERSION:2.0
PRODID:-//wp-events-plugin.com//7.2.3.1//EN
BEGIN:VEVENT
UID:1024@nvmo.org
DTSTART;VALUE=DATE:20251123
DTEND;VALUE=DATE:20251126
DTSTAMP:20241028T081725Z
URL:https://www.nvmo.org/agenda/2e-wadden-workshop-blaascarcinoom/
SUMMARY:2e Wadden Workshop Blaascarcinoom
DESCRIPTION:meer informatie
LOCATION:WestCord Hotel Schylge\, Burgemeester van Heusdenweg 37\, West-Terschelling\, Friesland\, 8881 ED\, Nederland
X-APPLE-STRUCTURED-LOCATION;VALUE=URI;X-ADDRESS=Burgemeester van Heusdenweg 37\, West-Terschelling\, Friesland\, 8881 ED\, Nederland;X-APPLE-RADIUS=100;X-TITLE=WestCord Hotel Schylge:geo:0,0
END:VEVENT
END:VCALENDAR