BEGIN:VCALENDAR
VERSION:2.0
PRODID:-//wp-events-plugin.com//7.2.3.1//EN
BEGIN:VEVENT
UID:1059@nvmo.org
DTSTART;VALUE=DATE:20251116
DTEND;VALUE=DATE:20251119
DTSTAMP:20250226T093053Z
URL:https://www.nvmo.org/agenda/2e-wadden-workshop-hpb-tumoren/
SUMMARY:2e Wadden Workshop HPB-tumoren
DESCRIPTION:meer informatie
LOCATION:WestCord Hotel Schylge\, Burgemeester van Heusdenweg 37\, West-Terschelling\, Friesland\, 8881 ED\, Nederland
X-APPLE-STRUCTURED-LOCATION;VALUE=URI;X-ADDRESS=Burgemeester van Heusdenweg 37\, West-Terschelling\, Friesland\, 8881 ED\, Nederland;X-APPLE-RADIUS=100;X-TITLE=WestCord Hotel Schylge:geo:0,0
END:VEVENT
END:VCALENDAR