BEGIN:VCALENDAR
VERSION:2.0
PRODID:-//wp-events-plugin.com//7.2.3.1//EN
BEGIN:VEVENT
UID:753@nvmo.org
DTSTART:20221110T230000Z
DTEND:20221110T230000Z
DTSTAMP:20221109T082629Z
URL:https://www.nvmo.org/agenda/algemene-ledenvergadering-nvmo-najaar-2022/
SUMMARY:Algemene Ledenvergadering NVMO Najaar 2022
DESCRIPTION:De NVMO houdt op vrijdag 11 november 2022 van 08.00 tot 10.00 uur haar algemene ledenvergadering. NVMO-leden die niet in staat zijn om in Congrescentrum Papendal aanwezig te zijn\, kunnen de ledenvergadering actief volgen via een livestream.\n\nVia de livestream kunnen vragen worden gesteld en kan aan discussies en stemrondes deel worden genomen. Aanmelden voor de livestream is mogelijk tot uiterlijk donderdagmiddag 10 november\, 15.00 uur\, via secretariaat@nvmo.org. Digitale deelnemers krijgen na aanmelding een link toegestuurd waarmee ze de ledenvergadering kunnen volgen.\n\nDe agenda en vergaderstukken zijn in het besloten gedeelte van de NVMO-website te raadplegen. NVMO-leden kunnen voorafgaand aan de ledenvergadering reacties op de agenda en vergaderstukken doorgeven aan het NVMO-bestuur via bestuur@nvmo.org. Het NVMO-bestuur rekent weer op uw deelname en inbreng.\n\nmeer informatie
CATEGORIES:Algemene ledenvergadering NVMO
LOCATION:Hotel- en Congrescentrum Papendal\, Papendallaan 3\, Arnhem\, 6816 VD\, Nederland
X-APPLE-STRUCTURED-LOCATION;VALUE=URI;X-ADDRESS=Papendallaan 3\, Arnhem\, 6816 VD\, Nederland;X-APPLE-RADIUS=100;X-TITLE=Hotel- en Congrescentrum Papendal:geo:0,0
END:VEVENT
END:VCALENDAR