BEGIN:VCALENDAR
VERSION:2.0
PRODID:-//wp-events-plugin.com//7.2.3.1//EN
BEGIN:VEVENT
UID:1088@nvmo.org
DTSTART:20251121T070000Z
DTEND:20251121T090000Z
DTSTAMP:20251111T094721Z
URL:https://www.nvmo.org/agenda/algemene-ledenvergadering-nvmo-najaar-2025/
SUMMARY:Algemene ledenvergadering NVMO - najaar 2025
DESCRIPTION:De NVMO houdt op vrijdag 21 november van 8.00 tot 10.00 uur haar algemene ledenvergadering in Papendal\, Arnhem.\nNVMO-leden die niet in staat zijn om in Congrescentrum Papendal aanwezig te zijn\, kunnen de ledenvergadering actief volgen via een livestream.\n\nDe agenda en vergaderstukken zijn ook in het besloten gedeelte van de NVMO-website te raadplegen. NVMO-leden kunnen voorafgaand aan de ledenvergadering reacties op de agenda en vergaderstukken doorgeven aan het NVMO-bestuur via bestuur@nvmo.org. Het NVMO-bestuur rekent weer op uw deelname en inbreng.\n\nmeer informatie
CATEGORIES:Algemene ledenvergadering NVMO
LOCATION:Hotel Papendal\, Papendallaan\, Arnhem\, Nederland
GEO:52.00704649999999;5.819069399999989
X-APPLE-STRUCTURED-LOCATION;VALUE=URI;X-ADDRESS=Papendallaan\, Arnhem\, Nederland;X-APPLE-RADIUS=100;X-TITLE=Hotel Papendal:geo:52.00704649999999;5.819069399999989
END:VEVENT
END:VCALENDAR