BEGIN:VCALENDAR
VERSION:2.0
PRODID:-//wp-events-plugin.com//7.2.3.1//EN
BEGIN:VEVENT
UID:1031@nvmo.org
DTSTART;VALUE=DATE:20250313
DTEND;VALUE=DATE:20250314
DTSTAMP:20241203T103652Z
URL:https://www.nvmo.org/agenda/continuum-oncologie-20e-jaarsymposium-oncologie/
SUMMARY:Continuüm Oncologie: 20e Jaarsymposium Oncologie
DESCRIPTION:meer informatie\n\n&nbsp\;
LOCATION:Bibliotheek Neude\, Utrecht\, Neude 11\, Utrecht\, Utrecht\, 3512 AE\, Nederland
X-APPLE-STRUCTURED-LOCATION;VALUE=URI;X-ADDRESS=Neude 11\, Utrecht\, Utrecht\, 3512 AE\, Nederland;X-APPLE-RADIUS=100;X-TITLE=Bibliotheek Neude, Utrecht:geo:0,0
END:VEVENT
END:VCALENDAR