BEGIN:VCALENDAR
VERSION:2.0
PRODID:-//wp-events-plugin.com//7.2.3.1//EN
BEGIN:VEVENT
UID:1112@nvmo.org
DTSTART;VALUE=DATE:20260618
DTEND;VALUE=DATE:20260619
DTSTAMP:20260129T092510Z
URL:https://www.nvmo.org/agenda/gu-masterclass-202-spierinvasief-blaascarcinoom/
SUMMARY:GU Masterclass 202 spierinvasief blaascarcinoom
DESCRIPTION:MEER INFORMATIE
LOCATION:Van der Valk Hotel Breukelen\, Stationsweg 91\, Breukelen\, 3621 LK\, Nederland
X-APPLE-STRUCTURED-LOCATION;VALUE=URI;X-ADDRESS=Stationsweg 91\, Breukelen\, 3621 LK\, Nederland;X-APPLE-RADIUS=100;X-TITLE=Van der Valk Hotel Breukelen:geo:0,0
END:VEVENT
END:VCALENDAR