BEGIN:VCALENDAR
VERSION:2.0
PRODID:-//wp-events-plugin.com//7.2.3.1//EN
BEGIN:VEVENT
UID:1074@nvmo.org
DTSTART:20251111T160000Z
DTEND:20251111T200000Z
DTSTAMP:20250807T145147Z
URL:https://www.nvmo.org/agenda/iknl-symposium-uitgezaaide-kanker/
SUMMARY:IKNL-symposium uitgezaaide kanker
DESCRIPTION:meer informatie
LOCATION:TivoliVredenburg\, Vredenburgkade 11\, Utrecht\, Utrecht\, 3511 WC\, Nederland
X-APPLE-STRUCTURED-LOCATION;VALUE=URI;X-ADDRESS=Vredenburgkade 11\, Utrecht\, Utrecht\, 3511 WC\, Nederland;X-APPLE-RADIUS=100;X-TITLE=TivoliVredenburg:geo:0,0
END:VEVENT
END:VCALENDAR