BEGIN:VCALENDAR
VERSION:2.0
PRODID:-//wp-events-plugin.com//7.2.3.1//EN
BEGIN:VEVENT
UID:965@nvmo.org
DTSTART;VALUE=DATE:20251119
DTEND;VALUE=DATE:20251120
DTSTAMP:20250908T075224Z
URL:https://www.nvmo.org/agenda/landelijke-jnvmo-onderwijsdag-2025/
SUMMARY:Landelijke jNVMO-onderwijsdag 2025
DESCRIPTION:Op woensdag 19 november vindt van 9.30 tot 20.30 uur de landelijke jNVMO-onderwijsdag voor oncologen in opleiding plaats in Hotel Papendal te Arnhem. Onderdelen die aan bod komen\, zijn:\n\n 	Pancreas en cholangiocarcinoom\n 	HR/HER2+ gemetasteerd mammacarcinoom\n 	Kanker en zwangerschap incl. fertiliteit preservatie\n 	Blaascarcinoom\n\nOok worden er tips en tricks over Immunotoxiciteit gedeeld.\n\nVoor het volledige programma klikt u hier:\n\nPROGRAMMA
CATEGORIES:Landelijke jNVMO-onderwijsdag
LOCATION:Hotel en Congrescentrum Papendal\, Papendallaan 3\, Arnhem\, Gelderland\, 6816 VD\, Nederland
X-APPLE-STRUCTURED-LOCATION;VALUE=URI;X-ADDRESS=Papendallaan 3\, Arnhem\, Gelderland\, 6816 VD\, Nederland;X-APPLE-RADIUS=100;X-TITLE=Hotel en Congrescentrum Papendal:geo:0,0
END:VEVENT
END:VCALENDAR