BEGIN:VCALENDAR
VERSION:2.0
PRODID:-//wp-events-plugin.com//7.2.3.1//EN
BEGIN:VEVENT
UID:1095@nvmo.org
DTSTART:20260615T220000Z
DTEND:20260615T220000Z
DTSTAMP:20251216T155828Z
URL:https://www.nvmo.org/agenda/nabon-boog-symposium-en-5e-boog-lustrum/
SUMMARY:NABON-BOOG Symposium en 5e BOOG lustrum
DESCRIPTION:MEER INFORMATIE
LOCATION:ntb\, ntb\, ntb\, Nederland
GEO:52.0349481;5.103255699999977
X-APPLE-STRUCTURED-LOCATION;VALUE=URI;X-ADDRESS=ntb\, ntb\, Nederland;X-APPLE-RADIUS=100;X-TITLE=ntb:geo:52.0349481;5.103255699999977
END:VEVENT
END:VCALENDAR