BEGIN:VCALENDAR
VERSION:2.0
PRODID:-//wp-events-plugin.com//7.2.3.1//EN
BEGIN:VEVENT
UID:1116@nvmo.org
DTSTART;VALUE=DATE:20261025
DTEND;VALUE=DATE:20261026
DTSTAMP:20260423T090508Z
URL:https://www.nvmo.org/agenda/nederlandse-avond-esmo-2026/
SUMMARY:Nederlandse Avond ESMO 2026
DESCRIPTION:Op zondag 25 oktober houden we in Madrid de Nederlandse Avond.\n\n&nbsp\;\n\n\n\nHet programma volgt.
CATEGORIES:Nederlandse Avond ESMO
LOCATION:Madrid\, Madrid\, Madrid\, Spanje\, Nederland
GEO:40.4790309;-3.6867981999999984
X-APPLE-STRUCTURED-LOCATION;VALUE=URI;X-ADDRESS=Madrid\, Madrid\, Spanje\, Nederland;X-APPLE-RADIUS=100;X-TITLE=Madrid:geo:40.4790309;-3.6867981999999984
END:VEVENT
END:VCALENDAR