BEGIN:VCALENDAR
VERSION:2.0
PRODID:-//wp-events-plugin.com//7.2.3.1//EN
BEGIN:VEVENT
UID:1090@nvmo.org
DTSTART;VALUE=DATE:20260330
DTEND;VALUE=DATE:20260331
DTSTAMP:20251201T111243Z
URL:https://www.nvmo.org/agenda/symposium-nieuwe-ontwikkelingen-bij-hoofd-halskanker-2/
SUMMARY:Symposium Nieuwe ontwikkelingen bij hoofd-halskanker
DESCRIPTION:MEER INFORMATIE
LOCATION:WKZ\, UMC Utrecht\, Lundlaan 6\, Utrecht\, Nederland
X-APPLE-STRUCTURED-LOCATION;VALUE=URI;X-ADDRESS=Lundlaan 6\, Utrecht\, Nederland;X-APPLE-RADIUS=100;X-TITLE=WKZ, UMC Utrecht:geo:0,0
END:VEVENT
END:VCALENDAR